BEGIN:VCALENDAR
VERSION:2.0
PRODID:-//CERN//INDICO//EN
BEGIN:VEVENT
SUMMARY:11th International Workshop on Acoustic and Radio EeV Neutrino Det
 ection Activities
DTSTART:20260608T110000Z
DTEND:20260611T150000Z
DTSTAMP:20260420T211900Z
UID:indico-event-5380@indico.kit.edu
CONTACT:tim.huege@kit.edu\;sabine.bucher@kit.edu\;+49 721 608 26938
DESCRIPTION:Speakers: Tim Huege (KIT)\n\n\nThe 11th installment of the wor
 kshop series on Acoustic and Radio EeV Neutrino Detection Activities\, to 
 be held in Karlsruhe\, Germany\, from June 8th to 11th 2026.\n\nhttps://in
 dico.kit.edu/event/5380/
IMAGE;VALUE=URI:https://indico.kit.edu/event/5380/logo-164730092.png
LOCATION:Schlosshotel Karlsruhe
URL:https://indico.kit.edu/event/5380/
END:VEVENT
END:VCALENDAR
