BEGIN:VCALENDAR
VERSION:2.0
PRODID:-//CERN//INDICO//EN
BEGIN:VEVENT
SUMMARY:EERA JP ES SCM#28
DTSTART:20260611T113000Z
DTEND:20260612T133000Z
DTSTAMP:20260421T095900Z
UID:indico-event-5589@indico.kit.edu
DESCRIPTION:We are pleased to announce that registration is now open for t
 he upcoming JP ES steering Committe Meeting (SCM#28)\, which will take pla
 ce in Brussels on 11–12 June 2026 in a lunch-to-lunch format tentativell
 y followed by SP1\, SP4\, SP6 meetings.\nAs outlined in the agenda\, the f
 irst day will be dedicated to the presentation and review of the Strategic
  Implementation Plan 2026–2035\, which has been extensively developed ov
 er the past months by the Task Force members. Furthermore\, the Sub-Progra
 me Coordinators will also present the SP activity plan for the second half
  of the year.\nThe second day will focus on the EU policy context and the 
 upcoming Framework Programme FP10. In addition\, this year we are pleased 
 to introduce a JP-level Brokerage Event to discuss expressions of interest
  in various calls from the Horizon Europe Work Programme for late 2026 and
  2027.  This will provide you\, as partners\, with the opportunity to pre
 sent your ideas for potential proposals or find potential partners to set 
 up a consortium.\n \nWe look forward to your participation in what promis
 es to be an engaging and productive meeting setting up the path for the JP
  ES in the coming years.\n\nhttps://indico.kit.edu/event/5589/
IMAGE;VALUE=URI:https://indico.kit.edu/event/5589/logo-4249720289.png
LOCATION:Brussels
URL:https://indico.kit.edu/event/5589/
END:VEVENT
END:VCALENDAR
